BEGIN:VCALENDAR
VERSION:2.0
PRODID:-//New Zealand Institute of Chinese Medicine Inc. - ECPv4.6.20.1//NONSGML v1.0//EN
CALSCALE:GREGORIAN
METHOD:PUBLISH
X-WR-CALNAME:New Zealand Institute of Chinese Medicine Inc.
X-ORIGINAL-URL:http://nzicm.co.nz
X-WR-CALDESC:Events for New Zealand Institute of Chinese Medicine Inc.
BEGIN:VEVENT
DTSTART;TZID=Pacific/Auckland:20180325T084500
DTEND;TZID=Pacific/Auckland:20180325T153000
DTSTAMP:20181224T053134
CREATED:20180226T013839Z
LAST-MODIFIED:20180226T013839Z
UID:3197-1521967500-1521991800@nzicm.co.nz
SUMMARY:First Aid Refresher Course
DESCRIPTION:You are invited to join in with the NZICM organised first Aid Refresher Course \nRemember the NZASA and Acupuncture NZ require a current first aid certificate for registration\, so if you’re due to renew…\nEmail secretary@nzia.org to register\nLimited spaces available! \nThese are important skills to have and keep up to date\, NZICM has organised our workplace first aid refresher course with First Aid NZ. This course is designed for those that have already completed a 2-day course and just need an update which is required every two years. \nYou will need to bring your current or very recently expired (less than 3 months) first aid certificate to the course as proof. (It is okay if it is from another provider) \nREGISTRATION closes MONDAY 19TH MARCH (if not already filled before then) \nNyima Tashi-Kagyu Buddhist Centre\n30b Pollen Street\, Ponsonby\, Auckland 1021\nParking: Plenty of free on-street parking \nCost: $115 per person for members\, $135 for non-members \nLunch: Lunch\, Tea & Coffee provided! 🙂 \nPlease pay $115/135 in to Kiwibank 38-9018-0363505-00\nLeaving your name and first aid as the reference and send us an email to confirm to secretary@nzia.org \nYou will be issued with your first aid certificate by training provider on the day and need to submit to NZASA or Acupucnture NZ \n
URL:http://nzicm.co.nz/event/first-aid-refresher-course-2/
LOCATION:30b Pollen Street\, Ponsonby\, Auckland\, 1021\, New Zealand
ATTACH;FMTTYPE=image/jpeg:http://nzicm.co.nz/wp-content/uploads/2018/02/firstaid169104-2234305_1600x900.jpg
END:VEVENT
END:VCALENDAR